BEGIN:VCALENDAR
VERSION:2.0
PRODID:icalendar-ruby
CALSCALE:GREGORIAN
METHOD:PUBLISH
BEGIN:VEVENT
DTSTAMP:20260425T132722Z
UID:5-560842@kenwoodbc.com
DTSTART:20261101T160000Z
DTEND:20261101T180000Z
CLASS:PUBLIC
CREATED:20260425T061836
DESCRIPTION:Sunday Worship
LAST-MODIFIED:20260425T061836
LOCATION:
SUMMARY:Sunday Worship
URL;VALUE=URI:https://www.kenwoodbc.com/events/sunday-worship/2026-11-01
ATTACH;FILENAME=Kenwood Logo with background[9].jpg;FMTTYPE=image/jpeg:http
 s://dq5pwpg1q8ru0.cloudfront.net/2021/11/14/09/45/47/3cf881bf-d508-4fd0-ad
 9c-d7ef5dd450ed/Kenwood%20Logo%20with%20background[9].jpg
END:VEVENT
END:VCALENDAR
